BEGIN:VCALENDAR
VERSION:2.0
PRODID:-//イルチブレインヨガ公式サイト - ECPv6.15.16//NONSGML v1.0//EN
CALSCALE:GREGORIAN
METHOD:PUBLISH
X-WR-CALNAME:イルチブレインヨガ公式サイト
X-ORIGINAL-URL:https://ilchibrainyoga.com
X-WR-CALDESC:イルチブレインヨガ公式サイト のイベント
REFRESH-INTERVAL;VALUE=DURATION:PT1H
X-Robots-Tag:noindex
X-PUBLISHED-TTL:PT1H
BEGIN:VTIMEZONE
TZID:Asia/Tokyo
BEGIN:STANDARD
TZOFFSETFROM:+0900
TZOFFSETTO:+0900
TZNAME:JST
DTSTART:20250101T000000
END:STANDARD
END:VTIMEZONE
BEGIN:VEVENT
DTSTART;TZID=Asia/Tokyo:20260204T103000
DTEND;TZID=Asia/Tokyo:20260204T153000
DTSTAMP:20260420T125628
CREATED:20260114T092246Z
LAST-MODIFIED:20260206T090308Z
UID:84657-1770201000-1770219000@ilchibrainyoga.com
SUMMARY:【西宮】🎈ぴえろっとマルシェ🎈とLOVE HEALS上映会
DESCRIPTION:🍁楽しく振るだけダイエット！ \nみんな一緒だから最後まで頑張れますようよ👌\nゆっくり伸ばしたり、回したり、タッピングしたり、筋トレだけがダイエットではありません😃\n開催日：2026年２月４日（水）\n時間：10:30～15:30\n料金：入場無料　各ブース利用料あり \n🍀温活&腸ケアとカウンセリング\n（心身のバランスを整え、本来の健やかさを引き出すお手伝い）\n20分　1000円 \nその他\n🍀首肩背中ケア\n🍀オーガニック\n🍀体によい食品(塩・スパイス・お茶など)\n🍀心温まる雑貨\n🍀対面ワークショップなどなど・・・\n身体と心を癒すマルシェです。 \n場所：Caféぴえろっと\n神戸市東灘区森南町1-18-11　ラブリィズ西芦屋　１階\nhttps://u-word.com/teppan/store/storeDetail/126101\nJR神戸線　甲南山手駅を南に出て線路沿い芦屋方面に徒歩3分 \n交流会＆上映会もあります。 \n\n16:00～17:30　料金別途\n🎞️映画館では見れない!ドキュメンタリー映画\n医学、心理学、量子学とスピリチュアル、ヒーリングの双方から｢癒し｣を探る作品 \n \n主催：仙崎善男・小榑由布子・糟谷香・森下政敏 \n申込はこちらからできます。\nhttps://chouseisan.com/s?h=d6b17416274140f2b9a1600713e55054 \n\nLINEからのお申し込みはこちら⇒https://lin.ee/oQ1yuZW \n\n\n  \n\n\n\n\n	\n	\n	 \n	\n		\n			\n				ご予約内容\n						（必須）\n						\n				 \n			\n			\n				体験レッスンイベント体験レッスン + オーラ撮影オーラ撮影問合せ\n　※ 入会予約はこちらからお申し込みください\n				 \n			\n		\n		\n			\n				お名前\n						（必須）\n						\n				 \n			\n			\n				\n				 \n			\n		\n		\n			\n				メールアドレス\n						（必須）\n						\n				 \n			\n			\n				\n※ 携帯電話のメールアドレスをご入力の際は、ドメイン指定の設定をされている場合”＠ilchibrainyoga.com”からのメールを受け取ることができるように設定してください。\n				 \n			\n		\n		\n			\n				お電話番号（携帯可）\n						（必須）\n						\n				 \n			\n			\n				イルチブレインヨガ各店舗からの連絡が可能な番号をご入力ください。\n\n				 \n			\n		\n		\n			\n				ご予約希望日時\n				 \n			\n			\n				ご予約希望日時をお選びください\n【希望日】タイムスケジュールに記載があるクラスからお選びください\n\n時間帯を選択してください10時台のクラス14時台のクラス19時台のクラス午前のイベント午後のイベント夜のイベント\n				 \n				※ ご予約状況等によりご希望の日時に添えない場合もございます。その際は事前に調整を行う連絡をさせていただきますので予めご了承ください。\n\n				 \n			\n		\n		\n			\n				こちらのスタジオを何でお知りになりましたか？\n						 （必須）\n						\n				 \n			\n			\n				チラシ看板書籍雑誌紹介Yahoo検索Google検索口コミその他Webサイト\n				 \n			\n		\n		\n			\n				ご関心があること、習得したいこと（複数可）\n				 \n			\n			\n				自然治癒力アップ集中力アップダイエット体質改善ストレス軽減丹田強化呼吸法瞑想法その他（備考欄にご入力ください）\n				 \n			\n		\n		\n			\n				備考欄\n				 \n			\n			\n				\n				 \n			\n		\n	\n	個人情報の取扱い\n		について、同意の上送信します。\n※ ご入力頂いた情報は、株式会社DAHN WORLD JAPANからのご案内をさせて頂く以外の目的では使用致しません。\n		\n	 \n	\n	\n	 \n	※ 送信ボタンを押すとすぐ送信されます。このページで入力内容を確認してください。\n\n自動で完了メールが配信されます。\n	 \nΔ \n\n\n\n株式会社DAHN WORLD JAPAN　ダンワールドジャパン
URL:https://ilchibrainyoga.com/event/nishinomiya-7/
LOCATION:cafeぴえろっと\, 神戸市東灘区森南町1丁目18-11
CATEGORIES:兵庫,兵庫_LH,西宮
END:VEVENT
END:VCALENDAR